BEGIN:VCALENDAR
VERSION:2.0
PRODID:-//Indian Landing - ECPv6.15.20//NONSGML v1.0//EN
CALSCALE:GREGORIAN
METHOD:PUBLISH
X-WR-CALNAME:Indian Landing
X-ORIGINAL-URL:https://indianlandingpto.org
X-WR-CALDESC:Events for Indian Landing
REFRESH-INTERVAL;VALUE=DURATION:PT1H
X-Robots-Tag:noindex
X-PUBLISHED-TTL:PT1H
BEGIN:VTIMEZONE
TZID:America/New_York
BEGIN:DAYLIGHT
TZOFFSETFROM:-0500
TZOFFSETTO:-0400
TZNAME:EDT
DTSTART:20250309T070000
END:DAYLIGHT
BEGIN:STANDARD
TZOFFSETFROM:-0400
TZOFFSETTO:-0500
TZNAME:EST
DTSTART:20251102T060000
END:STANDARD
BEGIN:DAYLIGHT
TZOFFSETFROM:-0500
TZOFFSETTO:-0400
TZNAME:EDT
DTSTART:20260308T070000
END:DAYLIGHT
BEGIN:STANDARD
TZOFFSETFROM:-0400
TZOFFSETTO:-0500
TZNAME:EST
DTSTART:20261101T060000
END:STANDARD
BEGIN:DAYLIGHT
TZOFFSETFROM:-0500
TZOFFSETTO:-0400
TZNAME:EDT
DTSTART:20270314T070000
END:DAYLIGHT
BEGIN:STANDARD
TZOFFSETFROM:-0400
TZOFFSETTO:-0500
TZNAME:EST
DTSTART:20271107T060000
END:STANDARD
END:VTIMEZONE
BEGIN:VEVENT
DTSTART;TZID=America/New_York:20260511T190000
DTEND;TZID=America/New_York:20260511T203000
DTSTAMP:20260422T105210
CREATED:20250615T121452Z
LAST-MODIFIED:20250615T121524Z
UID:1777-1778526000-1778531400@indianlandingpto.org
SUMMARY:PAB Meeting
DESCRIPTION:
URL:https://indianlandingpto.org/event/pab-meeting-5-2026/
CATEGORIES:PAB Meeting
END:VEVENT
BEGIN:VEVENT
DTSTART;TZID=America/New_York:20260514T190000
DTEND;TZID=America/New_York:20260514T200000
DTSTAMP:20260422T105210
CREATED:20250615T115741Z
LAST-MODIFIED:20250615T120113Z
UID:1758-1778785200-1778788800@indianlandingpto.org
SUMMARY:May PTO Meeting (In Person)
DESCRIPTION:
URL:https://indianlandingpto.org/event/may-pto-meeting-in-person/
LOCATION:IL Library
CATEGORIES:PTO Meeting
END:VEVENT
BEGIN:VEVENT
DTSTART;VALUE=DATE:20260525
DTEND;VALUE=DATE:20260526
DTSTAMP:20260422T105210
CREATED:20250620T232347Z
LAST-MODIFIED:20250620T232347Z
UID:1803-1779667200-1779753599@indianlandingpto.org
SUMMARY:Memorial Day (No School)
DESCRIPTION:
URL:https://indianlandingpto.org/event/memorial-day-no-school-2/
CATEGORIES:No School
END:VEVENT
END:VCALENDAR